View In:
ArcGIS JavaScript
ArcGIS Online Map Viewer
ArcGIS Earth
ArcMap
View Footprint In:
ArcGIS Online Map Viewer
Service Description: The 1976 aerial photography of the Willamette River was flown by the Oregon Parks and Recreation Department (OPRD) as part of the Willamette River Greenway planning effort in the 1970's. The photography includes coverage from the confluence with the Columbia River upstream to Dexter Reservoir and Cottage Grove Lake. The original project identifier is GWY-8 and acquisition from Corvallis upstream was on July 29, 1976 and from Corvallis downstream to the Columbia River was on August 10, 1976.
Name: Aerial_Imagery/WillametteRiver_1976
Description: The 1976 aerial photography of the Willamette River was flown by the Oregon Parks and Recreation Department (OPRD) as part of the Willamette River Greenway planning effort in the 1970's. The photography includes coverage from the confluence with the Columbia River upstream to Dexter Reservoir and Cottage Grove Lake. The original project identifier is GWY-8 and acquisition from Corvallis upstream was on July 29, 1976 and from Corvallis downstream to the Columbia River was on August 10, 1976.
Single Fused Map Cache: false
Extent:
XMin: 582471.496062994
YMin: 716463.3887795229
XMax: 781234.496062994
YMax: 1512007.3887795229
Spatial Reference: 102970
(6557)
Initial Extent:
XMin: 582471.496062994
YMin: 716463.3887795229
XMax: 781234.496062994
YMax: 1512007.3887795229
Spatial Reference: 102970
(6557)
Full Extent:
XMin: 582471.496062994
YMin: 716463.3887795229
XMax: 781234.496062994
YMax: 1512007.3887795229
Spatial Reference: 102970
(6557)
Pixel Size X: 1.0
Pixel Size Y: 1.0
Band Count: 3
Pixel Type: U8
RasterFunction Infos: {"rasterFunctionInfos": [{
"name": "None",
"description": "",
"help": ""
}]}
Mensuration Capabilities: None
Has Histograms: true
Has Colormap: false
Has Multi Dimensions : false
Rendering Rule:
Min Scale: 0
Max Scale: 0
Copyright Text: Oregon Parks and Recreation Department
Service Data Type: esriImageServiceDataTypeRGB
Min Values: 0, 0, 0
Max Values: 255, 255, 255
Mean Values: 63.80168809531168, 64.15344272945437, 60.58850712017846
Standard Deviation Values: 75.85602161998588, 74.3047584227595, 69.412693356855
Object ID Field: OBJECTID
Fields:
-
OBJECTID
(
type: esriFieldTypeOID, alias: OBJECTID
)
-
Shape
(
type: esriFieldTypeGeometry, alias: Shape
)
-
Name
(
type: esriFieldTypeString, alias: Name, length: 200
)
-
MinPS
(
type: esriFieldTypeDouble, alias: MinPS
)
-
MaxPS
(
type: esriFieldTypeDouble, alias: MaxPS
)
-
LowPS
(
type: esriFieldTypeDouble, alias: LowPS
)
-
HighPS
(
type: esriFieldTypeDouble, alias: HighPS
)
-
Category
(
type: esriFieldTypeInteger, alias: Category
, Coded Values:
[0: Unknown]
, [1: Primary]
, [2: Overview]
, ...6 more...
)
-
Tag
(
type: esriFieldTypeString, alias: Tag, length: 100
)
-
GroupName
(
type: esriFieldTypeString, alias: GroupName, length: 100
)
-
ProductName
(
type: esriFieldTypeString, alias: ProductName, length: 100
)
-
CenterX
(
type: esriFieldTypeDouble, alias: CenterX
)
-
CenterY
(
type: esriFieldTypeDouble, alias: CenterY
)
-
ZOrder
(
type: esriFieldTypeInteger, alias: ZOrder
)
-
Shape_Length
(
type: esriFieldTypeDouble, alias: Shape_Length
)
-
Shape_Area
(
type: esriFieldTypeDouble, alias: Shape_Area
)
Default Mosaic Method: Northwest
Allowed Mosaic Methods: NorthWest,Center,LockRaster,ByAttribute,Nadir,Viewpoint,Seamline,None
SortField:
SortValue: null
Mosaic Operator: First
Default Compression Quality: 75
Default Resampling Method: Bilinear
Max Record Count: 1000
Max Image Height: 4100
Max Image Width: 15000
Max Download Image Count: 20
Max Mosaic Image Count: 20
Allow Raster Function: true
Allow Copy: true
Allow Analysis: true
Allow Compute TiePoints: false
Supports Statistics: true
Supports Advanced Queries: true
Use StandardizedQueries: true
Raster Type Infos:
Name: Raster Dataset
Description: Supports all ArcGIS Raster Datasets
Help:
Has Raster Attribute Table: false
Edit Fields Info: null
Ownership Based AccessControl For Rasters: null
Child Resources:
Info
Histograms
Statistics
Key Properties
Legend
Raster Function Infos
Supported Operations:
Export Image
Query
Identify
Compute Histograms
Compute Statistics Histograms
Get Samples
Compute Class Statistics
Query Boundary
Compute Pixel Location
Validate
Project