{
 "currentVersion": 10.81,
 "serviceDescription": "Dense Image Matching (DIM) processing attempts to match pixels from stereo image pairs. This process is also known as Photogrammetric Detection and Ranging (PhoDAR), Structure from Motion (SfM), Semi-Global Matching (SGM). Matching can occur to the extent that the same pixel is visible in one or more Aerial Photographs. Therefore, poorly defined or otherwise obscured features that are not visible in multiple Aerial Photographs cannot be described in the resulting Point Cloud. Point Cloud density will vary due to changes in terrain, vegetation and other geographic and photogrammetric factors. \nSource data was processed by Quantum Spatial Inc. and is a raw, unclassified Point Cloud with no additional filtering or manual editing to repair any dropouts, spikes or noise. This data may not have been checked for parallax, therefore resulting Point Cloud data may not align from strip to strip. Source AGPGS/IMU and aerotriangulation processes were designed to produce orthophotography with a horizontal accuracy of 4.82feet at 95% confidence. Vertical accuracy of the Digital Terrain Model (DTM) used in the orthorectification process is not part of the source specification. There is no published accuracy specification for this type of dataset. Horizontal accuracy testing appears to meet the orthophotography specification and vertical accuracy testing shows agreement with lidar DSM at +/- 3ft. Additional vertical accuracy testing and results are forthcoming.\nRaw point cloud data was processed to produce a Digital Surface Model (DSM) using ESRI ArcGIS Pro 2.7.1 by the Oregon Parks and Recreation Department.\n",
 "name": "Elevation/DIM_2018_DIGITAL_SURFACE_MODEL",
 "description": "Dense Image Matching (DIM) processing attempts to match pixels from stereo image pairs. This process is also known as Photogrammetric Detection and Ranging (PhoDAR), Structure from Motion (SfM), Semi-Global Matching (SGM). Matching can occur to the extent that the same pixel is visible in one or more Aerial Photographs. Therefore, poorly defined or otherwise obscured features that are not visible in multiple Aerial Photographs cannot be described in the resulting Point Cloud. Point Cloud density will vary due to changes in terrain, vegetation and other geographic and photogrammetric factors. \nSource data was processed by Quantum Spatial Inc. and is a raw, unclassified Point Cloud with no additional filtering or manual editing to repair any dropouts, spikes or noise. This data may not have been checked for parallax, therefore resulting Point Cloud data may not align from strip to strip. Source AGPGS/IMU and aerotriangulation processes were designed to produce orthophotography with a horizontal accuracy of 4.82feet at 95% confidence. Vertical accuracy of the Digital Terrain Model (DTM) used in the orthorectification process is not part of the source specification. There is no published accuracy specification for this type of dataset. Horizontal accuracy testing appears to meet the orthophotography specification and vertical accuracy testing shows agreement with lidar DSM at +/- 3ft. Additional vertical accuracy testing and results are forthcoming.\nRaw point cloud data was processed to produce a Digital Surface Model (DSM) using ESRI ArcGIS Pro 2.7.1 by the Oregon Parks and Recreation Department.\n",
 "extent": {
  "xmin": 204355.5000000141,
  "ymin": 370.50000000721775,
  "xmax": 1714981.4999999898,
  "ymax": 1700170.4999999797,
  "spatialReference": {
   "wkid": 102970,
   "latestWkid": 6557
  }
 },
 "initialExtent": {
  "xmin": 204355.5000000141,
  "ymin": 370.50000000721775,
  "xmax": 1714981.4999999898,
  "ymax": 1700170.4999999797,
  "spatialReference": {
   "wkid": 102970,
   "latestWkid": 6557
  }
 },
 "fullExtent": {
  "xmin": 204355.5000000141,
  "ymin": 370.50000000721775,
  "xmax": 1714981.4999999898,
  "ymax": 1700170.4999999797,
  "spatialReference": {
   "wkid": 102970,
   "latestWkid": 6557
  }
 },
 "pixelSizeX": 2.999999999999952,
 "pixelSizeY": 2.9999999999999516,
 "bandCount": 1,
 "pixelType": "F32",
 "minPixelSize": 0,
 "maxPixelSize": 0,
 "copyrightText": "",
 "serviceDataType": "esriImageServiceDataTypeGeneric",
 "minValues": [
  -7927.31005859375
 ],
 "maxValues": [
  11167.482421875
 ],
 "meanValues": [
  2363.6408900988536
 ],
 "stdvValues": [
  1756.243273689457
 ],
 "objectIdField": "OBJECTID",
 "fields": [
  {
   "name": "OBJECTID",
   "type": "esriFieldTypeOID",
   "alias": "OBJECTID",
   "domain": null
  },
  {
   "name": "Shape",
   "type": "esriFieldTypeGeometry",
   "alias": "Shape",
   "domain": null
  },
  {
   "name": "Name",
   "type": "esriFieldTypeString",
   "alias": "Name",
   "domain": null,
   "length": 200
  },
  {
   "name": "MinPS",
   "type": "esriFieldTypeDouble",
   "alias": "MinPS",
   "domain": null
  },
  {
   "name": "MaxPS",
   "type": "esriFieldTypeDouble",
   "alias": "MaxPS",
   "domain": null
  },
  {
   "name": "LowPS",
   "type": "esriFieldTypeDouble",
   "alias": "LowPS",
   "domain": null
  },
  {
   "name": "HighPS",
   "type": "esriFieldTypeDouble",
   "alias": "HighPS",
   "domain": null
  },
  {
   "name": "Category",
   "type": "esriFieldTypeInteger",
   "alias": "Category",
   "domain": {
    "type": "codedValue",
    "name": "MosaicCatalogItemCategoryDomain",
    "description": "Catalog item categories.",
    "codedValues": [
     {
      "name": "Unknown",
      "code": 0
     },
     {
      "name": "Primary",
      "code": 1
     },
     {
      "name": "Overview",
      "code": 2
     },
     {
      "name": "Unprocessed Overview",
      "code": 3
     },
     {
      "name": "Partial Overview",
      "code": 4
     },
     {
      "name": "Inactive",
      "code": 5
     },
     {
      "name": "Uploaded",
      "code": 253
     },
     {
      "name": "Incomplete",
      "code": 254
     },
     {
      "name": "Custom",
      "code": 255
     }
    ],
    "mergePolicy": "esriMPTDefaultValue",
    "splitPolicy": "esriSPTDefaultValue"
   }
  },
  {
   "name": "Tag",
   "type": "esriFieldTypeString",
   "alias": "Tag",
   "domain": null,
   "length": 100
  },
  {
   "name": "GroupName",
   "type": "esriFieldTypeString",
   "alias": "GroupName",
   "domain": null,
   "length": 100
  },
  {
   "name": "ProductName",
   "type": "esriFieldTypeString",
   "alias": "ProductName",
   "domain": null,
   "length": 100
  },
  {
   "name": "CenterX",
   "type": "esriFieldTypeDouble",
   "alias": "CenterX",
   "domain": null
  },
  {
   "name": "CenterY",
   "type": "esriFieldTypeDouble",
   "alias": "CenterY",
   "domain": null
  },
  {
   "name": "ZOrder",
   "type": "esriFieldTypeInteger",
   "alias": "ZOrder",
   "domain": null
  },
  {
   "name": "Shape_Length",
   "type": "esriFieldTypeDouble",
   "alias": "Shape_Length",
   "domain": null
  },
  {
   "name": "Shape_Area",
   "type": "esriFieldTypeDouble",
   "alias": "Shape_Area",
   "domain": null
  }
 ],
 "capabilities": "Catalog,Image,Metadata",
 "defaultMosaicMethod": "Northwest",
 "allowedMosaicMethods": "NorthWest,Center,LockRaster,ByAttribute,Nadir,Viewpoint,Seamline,None",
 "sortField": "",
 "sortValue": null,
 "sortAscending": true,
 "mosaicOperator": "First",
 "maxDownloadSizeLimit": 2048,
 "defaultCompressionQuality": 75,
 "defaultResamplingMethod": "Bilinear",
 "maxImageHeight": 4100,
 "maxImageWidth": 15000,
 "maxRecordCount": 1000,
 "maxDownloadImageCount": 20,
 "maxMosaicImageCount": 20,
 "allowRasterFunction": true,
 "rasterFunctionInfos": [
  {
   "name": "None",
   "description": "",
   "help": ""
  }
 ],
 "rasterTypeInfos": [
  {
   "name": "Raster Dataset",
   "description": "Supports all ArcGIS Raster Datasets",
   "help": ""
  }
 ],
 "mensurationCapabilities": "None",
 "hasHistograms": true,
 "hasColormap": false,
 "hasRasterAttributeTable": false,
 "minScale": 0,
 "maxScale": 0,
 "exportTilesAllowed": false,
 "hasMultidimensions": false,
 "supportsStatistics": true,
 "supportsAdvancedQueries": true,
 "editFieldsInfo": null,
 "ownershipBasedAccessControlForRasters": null,
 "allowComputeTiePoints": false,
 "useStandardizedQueries": true,
 "advancedQueryCapabilities": {
  "useStandardizedQueries": true,
  "supportsStatistics": true,
  "supportsOrderBy": true,
  "supportsDistinct": true,
  "supportsPagination": true
 },
 "spatialReference": {
  "wkid": 102970,
  "latestWkid": 6557
 }
}
